BEGIN:VCALENDAR
VERSION:2.0
PRODID:-//Toronto Northern Lights - ECPv6.15.20//NONSGML v1.0//EN
CALSCALE:GREGORIAN
METHOD:PUBLISH
X-WR-CALNAME:Toronto Northern Lights
X-ORIGINAL-URL:https://northernlightschorus.com
X-WR-CALDESC:Events for Toronto Northern Lights
REFRESH-INTERVAL;VALUE=DURATION:PT1H
X-Robots-Tag:noindex
X-PUBLISHED-TTL:PT1H
BEGIN:VTIMEZONE
TZID:America/Toronto
BEGIN:DAYLIGHT
TZOFFSETFROM:-0500
TZOFFSETTO:-0400
TZNAME:EDT
DTSTART:20250309T070000
END:DAYLIGHT
BEGIN:STANDARD
TZOFFSETFROM:-0400
TZOFFSETTO:-0500
TZNAME:EST
DTSTART:20251102T060000
END:STANDARD
BEGIN:DAYLIGHT
TZOFFSETFROM:-0500
TZOFFSETTO:-0400
TZNAME:EDT
DTSTART:20260308T070000
END:DAYLIGHT
BEGIN:STANDARD
TZOFFSETFROM:-0400
TZOFFSETTO:-0500
TZNAME:EST
DTSTART:20261101T060000
END:STANDARD
BEGIN:DAYLIGHT
TZOFFSETFROM:-0500
TZOFFSETTO:-0400
TZNAME:EDT
DTSTART:20270314T070000
END:DAYLIGHT
BEGIN:STANDARD
TZOFFSETFROM:-0400
TZOFFSETTO:-0500
TZNAME:EST
DTSTART:20271107T060000
END:STANDARD
END:VTIMEZONE
BEGIN:VEVENT
DTSTART;TZID=America/Toronto:20260613T150000
DTEND;TZID=America/Toronto:20260613T170000
DTSTAMP:20260423T100314
CREATED:20260402T030620Z
LAST-MODIFIED:20260415T041829Z
UID:735-1781362800-1781370000@northernlightschorus.com
SUMMARY:There's No Place Like Home
DESCRIPTION:Join the Toronto Northern Lights Chorus for a summer concert featuring timeless songs from a variety of eras. This evening will take you on a journey of a rich mix of musical genres: barbershop\, pop and musical theatre\, and features special local guest performers! From the tender and emotional to the upbeat and lively\, there’s something in the program to delight everyone. \n  \n \n  \nCome listen to one of the city’s finest acapella ensembles – you are sure to enjoy the warmth and connection of the music and the harmonies of the evening\, all infused with the feeling of home. Visit https://terminaltheatre.ca/performance/theres-no-place-like-home/ for more information from The Terminal Theatre. \n  \nWhen: Saturday\, June 13th\, 2026\, 3:00 p.m. \nWhere: The Terminal Theatre\, Queens Quay Terminal\, 207 Queens Quay W Third Floor\, Toronto\, ON M5J 1A7 \nTickets: \n$30 – Plus Service Fees\, CIF & HST \n$15 – Student Pricing Plus Service Fees\, CIF & HST. Please bring your Student ID to the theatre. \nChildren 12 and under – Free when accompanied by an adult (both adult and child must have a ticket) \nThis production has a capacity of 446
URL:https://northernlightschorus.com/event/theres-no-place-like-home/
LOCATION:The Terminal Theatre\, 207 Queens Quay W Third Floor\, Toronto\, ON\, M5J 1A7\, Canada
CATEGORIES:Performance
ATTACH;FMTTYPE=image/png:https://northernlightschorus.com/wp-content/uploads/2026/04/2026-June-13-TNL-Show.png
END:VEVENT
END:VCALENDAR